BEGIN:VCALENDAR
VERSION:2.0
PRODID:-//ExhibitionMatches.com//NONSGML v1.0//EN
BEGIN:VEVENT
UID=580CD6DB-A80C-9872-B671F0CD384506C4
DTSTAMP=20260423T152133Z
DTSTART;VALUE=DATE:20260808
DTEND;VALUE=DATE:20260809
SUMMARY:Chicago Wrestling Club: Day at the Beach
LOCATION:North Avenue Beach, 1600 N Lake Shore Dr, Chicago, IL, 60614
DESCRIPTION:View full event details: https://wrestlingtournaments.org/view.cfm?ID=107112
Contact: Dan Verr Olewrestler2@gmail.com
URL;VALUE=URI:https://wrestlingtournaments.org/view.cfm?ID=107112
END:VEVENT
END:VCALENDAR