BEGIN:VCALENDAR
VERSION:2.0
PRODID:-//ExhibitionMatches.com//NONSGML v1.0//EN
BEGIN:VEVENT
UID=581BA2CF-0DD4-8D1E-8A02B064BA55C583
DTSTAMP=20260423T152310Z
DTSTART;VALUE=DATE:20260718
DTEND;VALUE=DATE:20260719
SUMMARY:2026 Viking Folkstyle OPEN Boys/Girls
LOCATION:Homewood-Flossmoor High School North Building, 800 Governors Highway, Flossmoor, IL, 60422
DESCRIPTION:View full event details: https://wrestlingtournaments.org/view.cfm?ID=107090

URL;VALUE=URI:https://wrestlingtournaments.org/view.cfm?ID=107090
END:VEVENT
END:VCALENDAR