BEGIN:VCALENDAR
VERSION:2.0
PRODID:-//ExhibitionMatches.com//NONSGML v1.0//EN
BEGIN:VEVENT
UID=57C16489-BC96-45F6-6D9DD15D9E4F4479
DTSTAMP=20260423T151319Z
DTSTART;VALUE=DATE:20260620
DTEND;VALUE=DATE:20260621
SUMMARY:2026 Lemont Summer Slam/Under the Lights
LOCATION:Lemont High School, 800 Porter Street, Lemont, IL, 60439
DESCRIPTION:View full event details: https://wrestlingtournaments.org/view.cfm?ID=107064

URL;VALUE=URI:https://wrestlingtournaments.org/view.cfm?ID=107064
END:VEVENT
END:VCALENDAR